BEGIN:VCALENDAR
VERSION:2.0
PRODID:-//Le Palm – Restaurant &amp; Concept Bar - ECPv6.15.20//NONSGML v1.0//EN
CALSCALE:GREGORIAN
METHOD:PUBLISH
X-WR-CALNAME:Le Palm – Restaurant &amp; Concept Bar
X-ORIGINAL-URL:https://lepalm.mq
X-WR-CALDESC:Évènements pour Le Palm – Restaurant &amp; Concept Bar
REFRESH-INTERVAL;VALUE=DURATION:PT1H
X-Robots-Tag:noindex
X-PUBLISHED-TTL:PT1H
BEGIN:VTIMEZONE
TZID:UTC
BEGIN:STANDARD
TZOFFSETFROM:+0000
TZOFFSETTO:+0000
TZNAME:UTC
DTSTART:20250101T000000
END:STANDARD
END:VTIMEZONE
BEGIN:VEVENT
DTSTART;TZID=UTC:20260423T190000
DTEND;TZID=UTC:20260423T233000
DTSTAMP:20260423T085933
CREATED:20250415T133617Z
LAST-MODIFIED:20251224T014742Z
UID:10000579-1776970800-1776987000@lepalm.mq
SUMMARY:Jeudi\, c’est Brasero au Palm !
DESCRIPTION:Chaque jeudi soir\, Le Palm vous invite à vivre une expérience culinaire unique autour du feu. Dans une ambiance chaleureuse et conviviale\, découvrez notre dîner Brasero\, une carte exclusive où viandes\, poissons et tapas se subliment à la flamme. Une expérience à ciel ouvert\, portée par la chaleur du feu\, les parfums grillés et les conversations qui crépitent. \nSur la table\, les pièces de viande s’offrent à la braise : pluma ibérique\, brochettes créoles\, côte de bœuf Angus à partager… Côté mer\, les crevettes\, le calamar ou le thon prennent le goût du feu\, relevés de sauces maison et accompagnés de légumes grillés ou de pommes de terre fumées. \nAvant\, il y a les tapas à déguster. Après\, les douceurs de la carte. Au milieu\, ce moment suspendu où tout se joue à la flamme. \n✨ Une cuisine sincère\, des produits choisis\, une atmosphère unique.📍 Chaque jeudi soir\, uniquement au Palm.🎟️ Réservez votre table – la flamme n’attend pas.
URL:https://lepalm.mq/evennement/jeudi-cest-brasero-au-palm/2026-04-23/
LOCATION:Le Palm Martinique\, 2 Av. des Arawaks\, Fort-de-France\, 97200\, Martinique
ATTACH;FMTTYPE=image/jpeg:https://lepalm.mq/wp-content/uploads/2025/04/Grand-Opening-Restaurant-Banner-2-scaled.jpg
END:VEVENT
END:VCALENDAR